BEGIN:VCALENDAR
VERSION:2.0
PRODID:-//Tukios.com/
BEGIN:VEVENT
UID:17df32ae-860d-4a5b-ae8e-22ffa930f613@www.hillcrestchapelcares.com
DTSTAMP:20260423T195954Z
DTSTART:20260425T170000Z
DTEND:20260425T180000Z
SUMMARY:Funeral Service
DESCRIPTION:
URL:https://www.hillcrestchapelcares.com/obituaries/vivian-herrington
LOCATION:Hillcrest Chapel 1 Bullsboro Drive  Newnan GA 30263
GEO:33.3823094;-84.7932307
END:VEVENT
END:VCALENDAR