BEGIN:VCALENDAR
VERSION:2.0
PRODID:-//Tukios.com/
BEGIN:VEVENT
UID:129cf98c-912d-4b5e-a36d-0a407280a326@www.hillcrestchapelcares.com
DTSTAMP:20260423T200450Z
DTSTART:20260425T160000Z
DTEND:20260425T170000Z
SUMMARY:Visitation
DESCRIPTION:
URL:https://www.hillcrestchapelcares.com/obituaries/vivian-herrington
LOCATION:Hillcrest Chapel 1 Bullsboro Drive  Newnan GA 30263
GEO:33.3823094;-84.7932307
END:VEVENT
END:VCALENDAR