BEGIN:VCALENDAR
VERSION:2.0
PRODID:-//Tukios.com/
BEGIN:VEVENT
UID:51d18e99-33e4-4faa-ac2c-4691c0943f08@www.hillcrestchapelcares.com
DTSTAMP:20260423T195938Z
DTSTART:20260425
SUMMARY:Interment
DESCRIPTION:Immediately following the service in our chapel.
URL:https://www.hillcrestchapelcares.com/obituaries/vivian-herrington
LOCATION:    Senoia GA 30276
GEO:33.3099354;-84.5566153
END:VEVENT
END:VCALENDAR